BEGIN:VCALENDAR
VERSION:2.0
PRODID:-//COLÉGIO ÁTILLA CURUMIM - ECPv6.13.2.1//NONSGML v1.0//EN
CALSCALE:GREGORIAN
METHOD:PUBLISH
X-WR-CALNAME:COLÉGIO ÁTILLA CURUMIM
X-ORIGINAL-URL:https://colegioatilla.com.br
X-WR-CALDESC:Eventos para COLÉGIO ÁTILLA CURUMIM
REFRESH-INTERVAL;VALUE=DURATION:PT1H
X-Robots-Tag:noindex
X-PUBLISHED-TTL:PT1H
BEGIN:VTIMEZONE
TZID:UTC
BEGIN:STANDARD
TZOFFSETFROM:+0000
TZOFFSETTO:+0000
TZNAME:UTC
DTSTART:20220101T000000
END:STANDARD
END:VTIMEZONE
BEGIN:VEVENT
DTSTART;TZID=UTC:20221211T100000
DTEND;TZID=UTC:20221215T130000
DTSTAMP:20260423T190512
CREATED:20221015T062155Z
LAST-MODIFIED:20221203T012607Z
UID:4742-1670752800-1671109200@colegioatilla.com.br
SUMMARY:Dia dos Professores
DESCRIPTION:Dia dos Professores\nHoje nossos professores comemoraram o dia deles em uma viagem para São Roque. Foi um dia incrível! Parabéns professores\, vocês merecem.
URL:https://colegioatilla.com.br/event/dia-dos-professores/
CATEGORIES:Eventos Àtilla
ATTACH;FMTTYPE=image/jpeg:https://colegioatilla.com.br/wp-content/uploads/2022/08/professores.jpg
END:VEVENT
BEGIN:VEVENT
DTSTART;TZID=UTC:20221120T200000
DTEND;TZID=UTC:20221120T200000
DTSTAMP:20260423T190512
CREATED:20220824T062350Z
LAST-MODIFIED:20221203T012433Z
UID:4744-1668974400-1668974400@colegioatilla.com.br
SUMMARY:Dia da Consciência Negra
DESCRIPTION:Dia da Consciência Negra\nHoje apresentamos a vocês nosso incrível evento cultural da consciência negra. Os alunos recitaram poesia\, cantaram\, fizeram capoeira e apresentaram suas artes em murais.
URL:https://colegioatilla.com.br/event/dia-da-consciencia-negra/
CATEGORIES:Eventos Àtilla
ATTACH;FMTTYPE=image/jpeg:https://colegioatilla.com.br/wp-content/uploads/2022/08/313393672_620502986322317_5735865444138040290_n.jpg
END:VEVENT
END:VCALENDAR